BEGIN:VCALENDAR
VERSION:2.0
PRODID:-//CNMI Nutrition Assistance Program - ECPv5.8.1//NONSGML v1.0//EN
CALSCALE:GREGORIAN
METHOD:PUBLISH
X-WR-CALNAME:CNMI Nutrition Assistance Program
X-ORIGINAL-URL:https://cnminap.gov.mp
X-WR-CALDESC:Events for CNMI Nutrition Assistance Program
BEGIN:VTIMEZONE
TZID:UTC
BEGIN:STANDARD
TZOFFSETFROM:+0000
TZOFFSETTO:+0000
TZNAME:UTC
DTSTART:20200101T000000
END:STANDARD
END:VTIMEZONE
BEGIN:VEVENT
DTSTART;TZID=UTC:20200303T080000
DTEND;TZID=UTC:20200303T170000
DTSTAMP:20210825T212934
CREATED:20200303T061243Z
LAST-MODIFIED:20200504T000728Z
UID:992-1583222400-1583254800@cnminap.gov.mp
SUMMARY:Dacy's parade balloon inflation service
DESCRIPTION:Overview\n    How all this mistaken idea of denouncing pleasure  praising pain was born  and i will give you all complete account of the system of  great explorer of the truth pursues in a free hour\, when power of choice is untrammelled and when nothing. \n    Denouncing pleasure and praising pain was born  and i will give all complete account the system expound every pleasure is to be welcomed and every pain avoided. \n					\n						\n				\n						\n					\n		\n								\n					\n		\n				\n						\n							\n					\n			\n							\n						\n				\n					\n			\n				\n					\n					\n						\n												9am - 10am\n												10am - 12am\n												12.30pm - 2pm\n											\n					\n				\n				\n					\n											\n						\n							Welcome speech from mayor\n							\n								\n									Pleasure and praising pain was born and give you a complete.\n								\n							\n						\n											\n						\n							Program starts from LN school ground\n							\n								\n									Pleasure and praising pain was born and give you a complete.\n								\n							\n						\n											\n						\n							Price distribution\n							\n								\n									Pleasure and praising pain was born and give you a complete.\n								\n							\n						\n										\n				\n			\n		 \n				\n				\n						\n					\n		\n								\n					\n		\n				\n						\n							\n					\n			\n							\n						\n				\n					 \n		 Special Guest\n			\n			\n				\n					\n						\n							\n							AK. Marian Lenora\n							Mayor\n						\n					\n				\n			\n				\n					\n						\n							\n							VJ. Herman Gordon\n							Actuary\n						\n					\n				\n			\n				\n					\n						\n							\n							AK. Marian Lenora\n							Mayor\n						\n					\n				\n			\n				\n					\n						\n							\n							VJ. Herman Gordon\n							Actuary\n						\n					\n				\n			\n				\n					\n						\n							\n							AK. Marian Lenora\n							Mayor\n						\n					\n				\n			\n				\n					\n						\n							\n							VJ. Herman Gordon\n							Actuary
URL:https://cnminap.gov.mp/event/dacys-parade-balloon-inflation/
LOCATION:At 12th street\, Central park west\, UK\, At 12th street\, Central park west\, UK
CATEGORIES:Conference
ORGANIZER;CN="Herman%20Gordon":MAILTO:gordon@mygovt.com
END:VEVENT
BEGIN:VEVENT
DTSTART;TZID=UTC:20200303T080000
DTEND;TZID=UTC:20200303T170000
DTSTAMP:20210825T212935
CREATED:20200304T091835Z
LAST-MODIFIED:20200504T000732Z
UID:1101-1583222400-1583254800@cnminap.gov.mp
SUMMARY:Dacy's parade balloon inflation service
DESCRIPTION:Overview\n    How all this mistaken idea of denouncing pleasure  praising pain was born  and i will give you all complete account of the system of  great explorer of the truth pursues in a free hour\, when power of choice is untrammelled and when nothing. \n    Denouncing pleasure and praising pain was born  and i will give all complete account the system expound every pleasure is to be welcomed and every pain avoided. \n					\n						\n				\n						\n					\n		\n								\n					\n		\n				\n						\n							\n					\n			\n							\n						\n				\n					\n			\n				\n					\n					\n						\n												9am - 10am\n												10am - 12am\n												12.30pm - 2pm\n											\n					\n				\n				\n					\n											\n						\n							Welcome speech from mayor\n							\n								\n									Pleasure and praising pain was born and give you a complete.\n								\n							\n						\n											\n						\n							Program starts from LN school ground\n							\n								\n									Pleasure and praising pain was born and give you a complete.\n								\n							\n						\n											\n						\n							Price distribution\n							\n								\n									Pleasure and praising pain was born and give you a complete.\n								\n							\n						\n										\n				\n			\n		 \n				\n				\n						\n					\n		\n								\n					\n		\n				\n						\n							\n					\n			\n							\n						\n				\n					 \n		 Special Guest\n			\n			\n				\n					\n						\n							\n							AK. Marian Lenora\n							Mayor\n						\n					\n				\n			\n				\n					\n						\n							\n							VJ. Herman Gordon\n							Actuary\n						\n					\n				\n			\n				\n					\n						\n							\n							AK. Marian Lenora\n							Mayor\n						\n					\n				\n			\n				\n					\n						\n							\n							VJ. Herman Gordon\n							Actuary\n						\n					\n				\n			\n				\n					\n						\n							\n							AK. Marian Lenora\n							Mayor\n						\n					\n				\n			\n				\n					\n						\n							\n							VJ. Herman Gordon\n							Actuary
URL:https://cnminap.gov.mp/event/dacys-parade-balloon-inflation-12/
LOCATION:At 12th street\, Central park west\, UK\, At 12th street\, Central park west\, UK
CATEGORIES:Conference
ORGANIZER;CN="Herman%20Gordon":MAILTO:gordon@mygovt.com
END:VEVENT
END:VCALENDAR